BEGIN:VCALENDAR
VERSION:2.0
PRODID:-//Association des Stomisés de la Montérégie - ECPv6.9.0//NONSGML v1.0//EN
CALSCALE:GREGORIAN
METHOD:PUBLISH
X-WR-CALNAME:Association des Stomisés de la Montérégie
X-ORIGINAL-URL:https://stomisesmonteregie.ca
X-WR-CALDESC:Évènements pour Association des Stomisés de la Montérégie
REFRESH-INTERVAL;VALUE=DURATION:PT1H
X-Robots-Tag:noindex
X-PUBLISHED-TTL:PT1H
BEGIN:VTIMEZONE
TZID:America/Toronto
BEGIN:DAYLIGHT
TZOFFSETFROM:-0500
TZOFFSETTO:-0400
TZNAME:EDT
DTSTART:20250309T070000
END:DAYLIGHT
BEGIN:STANDARD
TZOFFSETFROM:-0400
TZOFFSETTO:-0500
TZNAME:EST
DTSTART:20251102T060000
END:STANDARD
END:VTIMEZONE
BEGIN:VEVENT
DTSTART;TZID=America/Toronto:20250607T093000
DTEND;TZID=America/Toronto:20250607T110000
DTSTAMP:20260421T214827
CREATED:20250513T125840Z
LAST-MODIFIED:20250516T142206Z
UID:44038-1749288600-1749294000@stomisesmonteregie.ca
SUMMARY:Assemblée générale annuelle 2025
DESCRIPTION:Madame\,\nMonsieur\, \nVeuillez prendre avis que vous êtes invité à l’Assemblée générale annuelle 2025 de l’Association des Stomisés Richelieu-Yamaska. Prenez note qu’il y aura également une courte assemblée générale extraordinaire avant le début de l’assemblée générale annuelle. \nDate : Le samedi 7 juin 2025\nLieu : Centre culturel Humania Assurance (Situé au 1675\, rue Saint-Pierre ouest\, Saint-Hyacinthe\, QC\, J2T 1P4)\nHeure : 9 h 30 (Assemblée générale extraordinaire) et 10 h (Assemblée générale annuelle) \nMerci de confirmer votre présence avant le mercredi 4 juin. \n.\nCLIQUEZ ICI POUR CONFIRMER VOTRE PRÉSENCE\n. \n\n 
URL:https://stomisesmonteregie.ca/activites/assemblee-generale-annuelle-2025/
LOCATION:Centre culturel Humania\, 1675\, rue Saint-Pierre ouest\, Saint-Hyacinthe\, J2T 1P4
CATEGORIES:Activité
ATTACH;FMTTYPE=image/jpeg:https://stomisesmonteregie.ca/wp-content/uploads/2025/05/AGA-2025.jpg
END:VEVENT
END:VCALENDAR