BEGIN:VCALENDAR
VERSION:2.0
PRODID:-//Association des Stomisés de la Montérégie - ECPv6.9.0//NONSGML v1.0//EN
CALSCALE:GREGORIAN
METHOD:PUBLISH
X-WR-CALNAME:Association des Stomisés de la Montérégie
X-ORIGINAL-URL:https://stomisesmonteregie.ca
X-WR-CALDESC:Évènements pour Association des Stomisés de la Montérégie
REFRESH-INTERVAL;VALUE=DURATION:PT1H
X-Robots-Tag:noindex
X-PUBLISHED-TTL:PT1H
BEGIN:VTIMEZONE
TZID:America/Toronto
BEGIN:DAYLIGHT
TZOFFSETFROM:-0500
TZOFFSETTO:-0400
TZNAME:EDT
DTSTART:20250309T070000
END:DAYLIGHT
BEGIN:STANDARD
TZOFFSETFROM:-0400
TZOFFSETTO:-0500
TZNAME:EST
DTSTART:20251102T060000
END:STANDARD
END:VTIMEZONE
BEGIN:VEVENT
DTSTART;TZID=America/Toronto:20251003T113000
DTEND;TZID=America/Toronto:20251003T130000
DTSTAMP:20260421T222152
CREATED:20250926T015000Z
LAST-MODIFIED:20251001T001155Z
UID:44160-1759491000-1759496400@stomisesmonteregie.ca
SUMMARY:Stomisés sans frontières
DESCRIPTION:Stomisés sans frontières\n5e édition : le vendredi 3 octobre 2025\nParis : 17 h 30 à 19 h I Québec : 11 h 30 à 13 h I Maroc : 16 h 30 à 18 h I Colombie : 10 h 30 à 12 h \n\n\n\nStomisé.e.s\, vous n’êtes pas seul.e.s !Handicaps invisibles : soutien visible\nLe 3 octobre\, cliquez ici pour rejoindre la discussion via Zoom!\n\n. \nDécouvrez une série de vidéos en cliquant ici. \n. \n\n. \nCliquez ici pour connaître tous les détails
URL:https://stomisesmonteregie.ca/activites/stomises-sans-frontieres/
LOCATION:En ligne\, vidéoconférence
CATEGORIES:Activité
ATTACH;FMTTYPE=image/jpeg:https://stomisesmonteregie.ca/wp-content/uploads/2025/09/Banniere-WEB-1.jpg
END:VEVENT
END:VCALENDAR