BEGIN:VCALENDAR
VERSION:2.0
PRODID:-//Association des Stomisés de la Montérégie - ECPv6.9.0//NONSGML v1.0//EN
CALSCALE:GREGORIAN
METHOD:PUBLISH
X-WR-CALNAME:Association des Stomisés de la Montérégie
X-ORIGINAL-URL:https://stomisesmonteregie.ca
X-WR-CALDESC:Évènements pour Association des Stomisés de la Montérégie
REFRESH-INTERVAL;VALUE=DURATION:PT1H
X-Robots-Tag:noindex
X-PUBLISHED-TTL:PT1H
BEGIN:VTIMEZONE
TZID:America/Toronto
BEGIN:DAYLIGHT
TZOFFSETFROM:-0500
TZOFFSETTO:-0400
TZNAME:EDT
DTSTART:20240310T070000
END:DAYLIGHT
BEGIN:STANDARD
TZOFFSETFROM:-0400
TZOFFSETTO:-0500
TZNAME:EST
DTSTART:20241103T060000
END:STANDARD
END:VTIMEZONE
BEGIN:VEVENT
DTSTART;TZID=America/Toronto:20241130T170000
DTEND;TZID=America/Toronto:20241130T230000
DTSTAMP:20260422T191127
CREATED:20241031T012918Z
LAST-MODIFIED:20241203T154622Z
UID:43712-1732986000-1733007600@stomisesmonteregie.ca
SUMMARY:Souper et soirée de Noël 2024
DESCRIPTION:Souper méchoui\, animation\, prix de présence\, surprises\, et bien plus!\nLe conseil d’administration de l’ASRY souhaite vous retrouver afin de célébrer avec vous la belle année qui se termine et la nouvelle année prometteuse qui s’annonce. \n17 h : Accueil des participants\n18 h : Service du repas : méchoui à volonté. Apportez vos boissons (vin\, bière et autre breuvage alcoolisé) et vos coupes! \nNous avons bien hâte de vous rencontrer et d’échanger nos voeux des fêtes avec vous. Vos familles et amis sont les bienvenus! \n  \n\n  \nLa vente des billets est maintenant terminée. Pour vous inscrire\, communiquez avec Jacques Beaudreault au 450 230-1795.
URL:https://stomisesmonteregie.ca/activites/souper-et-soiree-de-noel-2024/
LOCATION:Centre aquatique Desjardins\, 850\, rue Turcot\, Saint-Hyacinthe\, Québec\, J2S 1M2\, Canada
CATEGORIES:Activité
ATTACH;FMTTYPE=image/png:https://stomisesmonteregie.ca/wp-content/uploads/2024/10/Souper_noel_3.png
END:VEVENT
END:VCALENDAR