BEGIN:VCALENDAR
VERSION:2.0
PRODID:-//Association des Stomisés de la Montérégie - ECPv6.9.0//NONSGML v1.0//EN
CALSCALE:GREGORIAN
METHOD:PUBLISH
X-ORIGINAL-URL:https://stomisesmonteregie.ca
X-WR-CALDESC:Évènements pour Association des Stomisés de la Montérégie
REFRESH-INTERVAL;VALUE=DURATION:PT1H
X-Robots-Tag:noindex
X-PUBLISHED-TTL:PT1H
BEGIN:VTIMEZONE
TZID:America/Toronto
BEGIN:DAYLIGHT
TZOFFSETFROM:-0500
TZOFFSETTO:-0400
TZNAME:EDT
DTSTART:20240310T070000
END:DAYLIGHT
BEGIN:STANDARD
TZOFFSETFROM:-0400
TZOFFSETTO:-0500
TZNAME:EST
DTSTART:20241103T060000
END:STANDARD
END:VTIMEZONE
BEGIN:VEVENT
DTSTART;TZID=America/Toronto:20241003T120000
DTEND;TZID=America/Toronto:20241003T140000
DTSTAMP:20260422T230345
CREATED:20240703T145644Z
LAST-MODIFIED:20241003T012335Z
UID:43451-1727956800-1727964000@stomisesmonteregie.ca
SUMMARY:Stomisés sans frontières 2024
DESCRIPTION:Événement diffusé simultanément partout dans la Francophonie sur Zoom Webinaire!\nHeure de France : 18 h à 20 h / Heure du Maroc : 17 h à 18 h\n\n.\nVivre avec une stomie au féminin\nCette 4e édition de Stomisés sans frontières est dédiée au Docteur Daba Diouf\, l’âme africaine de Stomisés sans Frontières. \n  \nAssistez à cette table ronde virtuelle regroupant les médecins\, associations de patients\, patients et autres invités. \n  \nVous aurez le privilège d’entendre : \n\nVéronique Wright et Virginie Demdoum\, anthropologues\, psycho-sociologues et formatrices auprès des futurs infirmiers au CHU de Nîmes\nCorinne Guidy\, patiente partenaire et coach et écrivaine\nMaria Hass\, vice présidente de l’EOA (association européenne des Stomisés)\nCamille Lemay\, stomisée et fondatrice-animatrice du podcast Deuxième porte à gauche (Québec)\nChantale Chrétien\,\nCyril Sarrauste de Menthière\, patient partenaire membre du bureau de DICE (Digestive Cancers Europe) et Co-Responsable de MRCCR (Mon Réseau Cancer Colorectal)\n\n  \n\nInscription\nAssistez à cette rencontre unique gratuitement! Cliquez sur le lien ci-dessous pour vous inscrire et recevoir le lien pour assister au Zoom Webinaire par courriel. \nCLIQUEZ ICI POUR VOUS INSCRIRE\n\n  \n  \n\nStomisés sans frontières\nStomisés sans frontières a été créé au printemps 2021. Jacques Beaudreault\, président de l’Association des Stomisés Richelieu-Yamaska (Québec)\, et Myriam Teyssié\, présidente de l’Union d’Associations Françaises de Stomisés (France)\, ont souhaité bâtir un pont entre les deux continents. \nL’intention est de réunir autour de ce projet le maximum d’associations de patients stomisés. \nL’objectif est de partager les pratiques sur la prise en charge et l’accompagnement des patients stomisés dans les pays francophones. \nCe projet est devenu réalité le 4 octobre 2021.
URL:https://stomisesmonteregie.ca/activites/stomises-sans-frontieres-2024/
LOCATION:En ligne\, vidéoconférence
CATEGORIES:Activité
ATTACH;FMTTYPE=image/jpeg:https://stomisesmonteregie.ca/wp-content/uploads/2024/07/Banniere-activite-web-SSF-scaled.jpg
END:VEVENT
END:VCALENDAR