BEGIN:VCALENDAR
VERSION:2.0
PRODID:-//Association des Stomisés de la Montérégie - ECPv6.9.0//NONSGML v1.0//EN
CALSCALE:GREGORIAN
METHOD:PUBLISH
X-ORIGINAL-URL:https://stomisesmonteregie.ca
X-WR-CALDESC:Évènements pour Association des Stomisés de la Montérégie
REFRESH-INTERVAL;VALUE=DURATION:PT1H
X-Robots-Tag:noindex
X-PUBLISHED-TTL:PT1H
BEGIN:VTIMEZONE
TZID:America/Toronto
BEGIN:DAYLIGHT
TZOFFSETFROM:-0500
TZOFFSETTO:-0400
TZNAME:EDT
DTSTART:20240310T070000
END:DAYLIGHT
BEGIN:STANDARD
TZOFFSETFROM:-0400
TZOFFSETTO:-0500
TZNAME:EST
DTSTART:20241103T060000
END:STANDARD
END:VTIMEZONE
BEGIN:VEVENT
DTSTART;TZID=America/Toronto:20240608T090000
DTEND;TZID=America/Toronto:20240608T110000
DTSTAMP:20260423T040647
CREATED:20240523T114426Z
LAST-MODIFIED:20240523T115153Z
UID:43418-1717837200-1717844400@stomisesmonteregie.ca
SUMMARY:Assemblée générale annuelle 2024
DESCRIPTION:Madame\,\nMonsieur\, \nVeuillez prendre avis que vous êtes invité à l’Assemblée générale annuelle 2024\nde l’Association des Stomisés Richelieu-Yamaska. \nDate : Le samedi 8 juin 2024\nLieu : Centre culturel Humania Assurance\nHeure : 9 h (Arrivée dès 8 h 30) \nMerci de confirmer votre présence avant le mercredi 5 juin. \n  \nCONFIRMEZ VOTRE PRÉSENCE\n\n\n                \n                        Nom(Nécessaire)TéléphoneCourriel
URL:https://stomisesmonteregie.ca/activites/assemblee-generale-annuelle-2024/
LOCATION:Centre culturel Humania\, 1675\, rue Saint-Pierre ouest\, Saint-Hyacinthe\, J2T 1P4
CATEGORIES:Activité
ATTACH;FMTTYPE=image/jpeg:https://stomisesmonteregie.ca/wp-content/uploads/2024/05/Bannière-WEB-AGA-scaled.jpg
END:VEVENT
END:VCALENDAR