BEGIN:VCALENDAR
VERSION:2.0
PRODID:-//Association des Stomisés de la Montérégie - ECPv6.9.0//NONSGML v1.0//EN
CALSCALE:GREGORIAN
METHOD:PUBLISH
X-WR-CALNAME:Association des Stomisés de la Montérégie
X-ORIGINAL-URL:https://stomisesmonteregie.ca
X-WR-CALDESC:Évènements pour Association des Stomisés de la Montérégie
REFRESH-INTERVAL;VALUE=DURATION:PT1H
X-Robots-Tag:noindex
X-PUBLISHED-TTL:PT1H
BEGIN:VTIMEZONE
TZID:America/Toronto
BEGIN:DAYLIGHT
TZOFFSETFROM:-0500
TZOFFSETTO:-0400
TZNAME:EDT
DTSTART:20240310T070000
END:DAYLIGHT
BEGIN:STANDARD
TZOFFSETFROM:-0400
TZOFFSETTO:-0500
TZNAME:EST
DTSTART:20241103T060000
END:STANDARD
END:VTIMEZONE
BEGIN:VEVENT
DTSTART;TZID=America/Toronto:20240601T090000
DTEND;TZID=America/Toronto:20240601T110000
DTSTAMP:20260423T035230
CREATED:20240503T125006Z
LAST-MODIFIED:20240508T105311Z
UID:43283-1717232400-1717239600@stomisesmonteregie.ca
SUMMARY:Plantation d’arbres pour l'ASRY
DESCRIPTION:Le 1er juin\, vous êtes invités à venir nous aider à faire progresser votre Association et poser un formidable geste pour l’environnement.  \nQue diriez-vous de venir en pleine nature\, chaussés de vos bottes imperméables et habités de votre enthousiasme pour une plantation d’arbres en collaboration avec l’organisme Arbre-Éco? \n  \nCette rencontre se veut conviviale\, agréable et rassembleuse. Apportez votre perceuse à batterie pour creuser les trous et avoir du plaisir en pensant qu’il y aura un peu de vous dans cet environnement composé d’arbres en santé lorsque vous repasserez devant l’Abbaye. \nUn pique-nique vous sera servi sur place ou\, en cas de pluie\, tout près du site de plantation. \nFaites partie de ceux qui veulent faire la différence pour la santé de notre planète. \nAu plaisir de vous y rencontrer. \n  \n\nComme nous devons connaître le nombre de participants afin de déterminer la quantité d’arbres que l’organisme en charge doit se procurer\, nous demandons vos réponses avant le 14 mai à partir du formulaire ci-dessous ou par courriel à info@stomisesmonteregie.ca. \n  \nCONFIRMEZ VOTRE PRÉSENCE\n\n\n                \n                        Nom(Nécessaire)TéléphoneCourriel\n                            \n                        Si vous inscrivez plusieurs personnes en même temps\, merci de préciser leur nom.
URL:https://stomisesmonteregie.ca/activites/plantation-darbres/
LOCATION:Abbaye Cistercienne de Rougemont\, 471\, rue Principale\, Rougement\, Québec\, J0L 1M0\, Canada
CATEGORIES:Activité
ATTACH;FMTTYPE=image/jpeg:https://stomisesmonteregie.ca/wp-content/uploads/2024/05/plantation-darbres.jpg
END:VEVENT
END:VCALENDAR