BEGIN:VCALENDAR
VERSION:2.0
PRODID:-//Association des Stomisés de la Montérégie - ECPv6.9.0//NONSGML v1.0//EN
CALSCALE:GREGORIAN
METHOD:PUBLISH
X-ORIGINAL-URL:https://stomisesmonteregie.ca
X-WR-CALDESC:Évènements pour Association des Stomisés de la Montérégie
REFRESH-INTERVAL;VALUE=DURATION:PT1H
X-Robots-Tag:noindex
X-PUBLISHED-TTL:PT1H
BEGIN:VTIMEZONE
TZID:America/Toronto
BEGIN:DAYLIGHT
TZOFFSETFROM:-0500
TZOFFSETTO:-0400
TZNAME:EDT
DTSTART:20250309T070000
END:DAYLIGHT
BEGIN:STANDARD
TZOFFSETFROM:-0400
TZOFFSETTO:-0500
TZNAME:EST
DTSTART:20251102T060000
END:STANDARD
END:VTIMEZONE
BEGIN:VEVENT
DTSTART;TZID=America/Toronto:20251129T173000
DTEND;TZID=America/Toronto:20251129T223000
DTSTAMP:20260421T180329
CREATED:20251024T135923Z
LAST-MODIFIED:20251101T024039Z
UID:44205-1764437400-1764455400@stomisesmonteregie.ca
SUMMARY:Souper de Noël 2025
DESCRIPTION:Souper\, animation\, prix de présence\, surprises\, et bien plus!\nLe conseil d’administration de l’Association des Stomisés de la Montérégie souhaite vous retrouver afin de célébrer avec vous la belle année qui se termine et la nouvelle année prometteuse qui s’annonce. \n17 h 30 : Accueil des participants\n18 h : Service du repas \nAu menu : un bœuf bourguignon\, accompagné de légumes chauds et de pommes de terre pilées\, précédé d’une crème de légumes et suivi d’un gâteau aux fruits des champs. Les participants sont invités à apporter leurs boissons et leur coupe de vin. \nLa soirée se déroulera dans une atmosphère conviviale\, avec Nathalie Viau et Gilles Lessard qui feront vibrer la soirée en chanson et en musique. Il y aura également tirage de cadeaux pour le plaisir de tous. \nJoignez-vous à nous pour une soirée festive\, remplie de rires\, de musique et de belles rencontres avant la période des Fêtes.\n  \n\n. \nRéservez votre place – Achat de billets\nMembre : 30 $\nNon-membre : 50 $ \n  \nAchat de billets. \n. \n  \n\n 
URL:https://stomisesmonteregie.ca/activites/souper-de-noel-2025/
LOCATION:Centre aquatique Desjardins\, 850\, rue Turcot\, Saint-Hyacinthe\, Québec\, J2S 1M2\, Canada
CATEGORIES:Activité
ATTACH;FMTTYPE=image/png:https://stomisesmonteregie.ca/wp-content/uploads/2025/10/Yapla_Invitation-_2025_Noel.png
END:VEVENT
END:VCALENDAR