BEGIN:VCALENDAR
VERSION:2.0
PRODID:-//Association des Stomisés de la Montérégie - ECPv6.9.0//NONSGML v1.0//EN
CALSCALE:GREGORIAN
METHOD:PUBLISH
X-WR-CALNAME:Association des Stomisés de la Montérégie
X-ORIGINAL-URL:https://stomisesmonteregie.ca
X-WR-CALDESC:Évènements pour Association des Stomisés de la Montérégie
REFRESH-INTERVAL;VALUE=DURATION:PT1H
X-Robots-Tag:noindex
X-PUBLISHED-TTL:PT1H
BEGIN:VTIMEZONE
TZID:America/Toronto
BEGIN:DAYLIGHT
TZOFFSETFROM:-0500
TZOFFSETTO:-0400
TZNAME:EDT
DTSTART:20240310T070000
END:DAYLIGHT
BEGIN:STANDARD
TZOFFSETFROM:-0400
TZOFFSETTO:-0500
TZNAME:EST
DTSTART:20241103T060000
END:STANDARD
END:VTIMEZONE
BEGIN:VEVENT
DTSTART;TZID=America/Toronto:20241003T120000
DTEND;TZID=America/Toronto:20241003T140000
DTSTAMP:20260422T190452
CREATED:20240703T145644Z
LAST-MODIFIED:20241003T012335Z
UID:43451-1727956800-1727964000@stomisesmonteregie.ca
SUMMARY:Stomisés sans frontières 2024
DESCRIPTION:Événement diffusé simultanément partout dans la Francophonie sur Zoom Webinaire!\nHeure de France : 18 h à 20 h / Heure du Maroc : 17 h à 18 h\n\n.\nVivre avec une stomie au féminin\nCette 4e édition de Stomisés sans frontières est dédiée au Docteur Daba Diouf\, l’âme africaine de Stomisés sans Frontières. \n  \nAssistez à cette table ronde virtuelle regroupant les médecins\, associations de patients\, patients et autres invités. \n  \nVous aurez le privilège d’entendre : \n\nVéronique Wright et Virginie Demdoum\, anthropologues\, psycho-sociologues et formatrices auprès des futurs infirmiers au CHU de Nîmes\nCorinne Guidy\, patiente partenaire et coach et écrivaine\nMaria Hass\, vice présidente de l’EOA (association européenne des Stomisés)\nCamille Lemay\, stomisée et fondatrice-animatrice du podcast Deuxième porte à gauche (Québec)\nChantale Chrétien\,\nCyril Sarrauste de Menthière\, patient partenaire membre du bureau de DICE (Digestive Cancers Europe) et Co-Responsable de MRCCR (Mon Réseau Cancer Colorectal)\n\n  \n\nInscription\nAssistez à cette rencontre unique gratuitement! Cliquez sur le lien ci-dessous pour vous inscrire et recevoir le lien pour assister au Zoom Webinaire par courriel. \nCLIQUEZ ICI POUR VOUS INSCRIRE\n\n  \n  \n\nStomisés sans frontières\nStomisés sans frontières a été créé au printemps 2021. Jacques Beaudreault\, président de l’Association des Stomisés Richelieu-Yamaska (Québec)\, et Myriam Teyssié\, présidente de l’Union d’Associations Françaises de Stomisés (France)\, ont souhaité bâtir un pont entre les deux continents. \nL’intention est de réunir autour de ce projet le maximum d’associations de patients stomisés. \nL’objectif est de partager les pratiques sur la prise en charge et l’accompagnement des patients stomisés dans les pays francophones. \nCe projet est devenu réalité le 4 octobre 2021.
URL:https://stomisesmonteregie.ca/activites/stomises-sans-frontieres-2024/
LOCATION:En ligne\, vidéoconférence
CATEGORIES:Activité
ATTACH;FMTTYPE=image/jpeg:https://stomisesmonteregie.ca/wp-content/uploads/2024/07/Banniere-activite-web-SSF-scaled.jpg
END:VEVENT
BEGIN:VEVENT
DTSTART;TZID=America/Toronto:20241006T100000
DTEND;TZID=America/Toronto:20241006T120000
DTSTAMP:20260422T190452
CREATED:20240621T141814Z
LAST-MODIFIED:20241004T161304Z
UID:43444-1728208800-1728216000@stomisesmonteregie.ca
SUMMARY:10e marche annuelle
DESCRIPTION:10 ans de marche annuelle\, ça se fête!\nVenez célébrer notre mission en marchant avec nous!\nÉvénement gratuit de 10 h à 12 h \n  \nL’ASRY vous invite à la 10e édition de sa marche annuelle « Je marche pour vaincre les maladies inflammatoires du système digestif ». \nSur place : tirage de prix (billet 10 $)\, musique\, animation\, collations\, prix de présence et rafraîchissements. Animation et surprises!  \n  \n\nPRIX À GAGNER – BILLET 10 $\nProcurez-vous un billet de tirage et courez la chance de gagner un des prix ci-dessous.  Si vous gagnez un prix mais êtes absent le dimanche 6 octobre\, vous serez contacté par téléphone. \nLa vente des billets permettra à l’ASRY de poursuivre sa mission auprès des personnes stomisées et leurs proches. \n1. Vélo électrique (valeur de 2 390 $) offert par Lussier Chevrolet Buick GMC\n2. Chaise de bureau (valeur de 750 $) offerte par Groupe Lacasse\n3. BBQ Vida (valeur de 575 $) offert par Mylène Davidson courtier immobilier\n4. Téléviseur de 58 pouces (valeur de 500 $) offert par Canadian Tire\n5. Paire de billets pour les Canadiens de Montréal (valeur de 400 $) offerte par DBC Communications\n6. Argent comptant (valeur de 300 $) offert par Desjardins Caisse de la région de Saint-Hyacinthe\n7. 2 forfaits Sentier ressourçant (valeur de 286 $) offerts par Éveil des sens Spa urbain Saint-Hyacinthe\n8. Argent comptant (valeur de 250 $) offert par Bertrand Mathieu Ltée\n9. Argent comptant (valeur de 250 $) offert par Outillage Placide Mathieu\n10. Nuitée au Sheraton (valeur de 229 $) offerte par Sheraton Saint-Hyacinthe \nMerci à nos commanditaires qui ont généreusement offert ces prix. \n\nAchat de billets de tirage\nLa vente en ligne est terminée. Pour acheter des billets\, communiquez avec Jacques Beaudreault au 450 230-1795 ou sur place\, le dimanche 6 octobre dès 10 h. \n \n  \n  \n\n  \nCliquez ici pour consulter les Règles de participation et de fonctionnement d’une activité de systèmes de loterie.
URL:https://stomisesmonteregie.ca/activites/10e-marche-annuelle/
LOCATION:Cégep de Saint-Hyacinthe\, 3000\, avenue Boullé\, Saint-Hyacinthe\, Québec\, J2T1A3\, Canada
CATEGORIES:Activité
ATTACH;FMTTYPE=image/jpeg:https://stomisesmonteregie.ca/wp-content/uploads/2024/06/Banniere-web-MARCHE-ANNUELLE-scaled.jpg
END:VEVENT
BEGIN:VEVENT
DTSTART;TZID=America/Toronto:20241016T183000
DTEND;TZID=America/Toronto:20241016T200000
DTSTAMP:20260422T190452
CREATED:20241009T144147Z
LAST-MODIFIED:20241009T145418Z
UID:43683-1729103400-1729108800@stomisesmonteregie.ca
SUMMARY:Café-rencontre SAINT-HYACINTHE | Octobre 2024
DESCRIPTION:Joignez-vous à nous pour le café-rencontre d’octobre!\nUne fois par mois\, les membres peuvent se retrouver le temps d’un café pour échanger de leur quotidien\, leurs défis\, leurs questions et bien plus.\nCette soirée sympathique et conviviale est animée par Sandor Mesko\, administrateur. (sandor.m.mesko@gmail.com / 450 418-9636) \nNotez que cette activité est gratuite et que le café vous sera offert. \nMerci de réserver votre place dès maintenant en téléphonant au 450 418-9636 \, en précisant si vous participez au café-rencontre de Saint-Hyacinthe ou de Sherbrooke. \nPour toutes questions relatives à la rencontre\, veuillez contacter monsieur Sandor Mesko par courriel à sandor.m.mesko@gmail.com.
URL:https://stomisesmonteregie.ca/activites/cafe-rencontre-saint-hyacinthe-octobre-2024/
LOCATION:Rôtisserie Excellence\, 1300\, boulevard Choquette\, Saint-Hyacinthe\, Québec\, J2S 6G1\, Canada
CATEGORIES:Activité,Café-rencontre
ATTACH;FMTTYPE=image/jpeg:https://stomisesmonteregie.ca/wp-content/uploads/2024/10/2-scaled.jpg
END:VEVENT
BEGIN:VEVENT
DTSTART;TZID=America/Toronto:20241016T183000
DTEND;TZID=America/Toronto:20241016T200000
DTSTAMP:20260422T190452
CREATED:20241009T145235Z
LAST-MODIFIED:20241009T145554Z
UID:43688-1729103400-1729108800@stomisesmonteregie.ca
SUMMARY:Café-rencontre SHERBROOKE | Octobre 2024
DESCRIPTION:Joignez-vous à nous pour le café-rencontre d’octobre!\nUne fois par mois\, les membres peuvent se retrouver le temps d’un café pour échanger de leur quotidien\, leurs défis\, leurs questions et bien plus.\nUne soirée sympathique et conviviale! \nNotez que cette activité est gratuite et que le café vous sera offert. \nMerci de réserver votre place dès maintenant en téléphonant au 450 418-9636\, en précisant si vous participez au café-rencontre de Saint-Hyacinthe ou de Sherbrooke. \nPour toutes questions relatives à la rencontre\, veuillez contacter monsieur Sandor Mesko par courriel à sandor.m.mesko@gmail.com.
URL:https://stomisesmonteregie.ca/activites/cafe-rencontre-sherbrooke-octobre-2024/
LOCATION:Brasserie Fleurimont\, 1325\, 12e avenue Nord\, Sherbrooke\, Québec\, J1E 3P6\, Canada
CATEGORIES:Activité,Café-rencontre
ATTACH;FMTTYPE=image/jpeg:https://stomisesmonteregie.ca/wp-content/uploads/2024/10/1-scaled.jpg
END:VEVENT
END:VCALENDAR