BEGIN:VCALENDAR
VERSION:2.0
PRODID:-//Association des Stomisés de la Montérégie - ECPv6.9.0//NONSGML v1.0//EN
CALSCALE:GREGORIAN
METHOD:PUBLISH
X-WR-CALNAME:Association des Stomisés de la Montérégie
X-ORIGINAL-URL:https://stomisesmonteregie.ca
X-WR-CALDESC:Évènements pour Association des Stomisés de la Montérégie
REFRESH-INTERVAL;VALUE=DURATION:PT1H
X-Robots-Tag:noindex
X-PUBLISHED-TTL:PT1H
BEGIN:VTIMEZONE
TZID:America/Toronto
BEGIN:DAYLIGHT
TZOFFSETFROM:-0500
TZOFFSETTO:-0400
TZNAME:EDT
DTSTART:20250309T070000
END:DAYLIGHT
BEGIN:STANDARD
TZOFFSETFROM:-0400
TZOFFSETTO:-0500
TZNAME:EST
DTSTART:20251102T060000
END:STANDARD
END:VTIMEZONE
BEGIN:VEVENT
DTSTART;TZID=America/Toronto:20250426T103000
DTEND;TZID=America/Toronto:20250426T120000
DTSTAMP:20260422T040101
CREATED:20250326T185358Z
LAST-MODIFIED:20250423T152959Z
UID:43945-1745663400-1745668800@stomisesmonteregie.ca
SUMMARY:Conférence de Sara Levitt
DESCRIPTION:Sara Levitt raconte son parcours avec la maladie de Crohn et la stomie\, qu’elle a cachée pendant 15 ans avant de briser le silence. Devenue militante\, créatrice de contenu et mannequin\, elle partage son histoire pour briser les tabous et sensibiliser sur l’importance du soutien entre personnes vivant des réalités similaires.\n.\n.\nQui est Sara Levitt? \nSara Levitt est une militante pour la maladie de Crohn et les stomies\, ainsi qu’influenceuse et mannequin originaire de Montréal\, qui vit sa vie avec style malgré les différences visibles et les maladies chroniques. Après avoir caché sa stomie pendant 15 ans\, Sara a partagé son histoire publiquement pour la première fois il y a un peu plus d’un an. Depuis\, elle s’est lancée dans une mission de sensibilisation afin de mieux faire connaître les MICI et les stomies\, d’encourager les autres à embrasser leur diversité et de leur faire sentir qu’ils ne sont pas seuls. Sara a été mise en avant dans le magazine MAXIM\, a défilé à la New York Fashion Week\, a participé à Miss Bikini US et est apparue dans Time Magazine\, CTV\, La Presse et bien d’autres. Avec son iléostomie permanente\, LIV\, elle collabore avec des marques internationales en créant du contenu sur les réseaux sociaux où sa stomie est pleinement visible\, dans le but de normaliser leur présence et de briser les préjugés. \n.\n. \n\nDÉROULEMENT\n9 h : Ouverture de la salle\, visite des kiosques des compagnies de produits de stomie\n10 h 30 : Début de la conférence\n12 h : Fin estimée \n. \nIMPORTANT : La conférence sera en anglais\, avec une traduction en français en simultané. \n.\n. \n\nACHAT DE BILLETS\nTarif membre de l’ASRY : 10 $\nTarif non-membre de l’ASRY : 20 $ \n. \nCliquez ici pour acheter vos billets\nVous serez redirigé vers notre nouvelle plateforme de vente de billets\, Yapla. Communiquez avec l’ASRY si vous avez des difficultés pour acheter vos billets en ligne ou avez besoin d’assistance : info.asry@gmail.com ou 450 768-3835. \n.\n. \n\n.
URL:https://stomisesmonteregie.ca/activites/conference-de-sara-levitt/
LOCATION:Centre aquatique Desjardins\, 850\, rue Turcot\, Saint-Hyacinthe\, Québec\, J2S 1M2\, Canada
CATEGORIES:Activité,Conférence
ATTACH;FMTTYPE=image/png:https://stomisesmonteregie.ca/wp-content/uploads/2025/03/conference-sara-levitt-yapla.png
END:VEVENT
END:VCALENDAR