BEGIN:VCALENDAR
VERSION:2.0
PRODID:-//Association des Stomisés de la Montérégie - ECPv6.9.0//NONSGML v1.0//EN
CALSCALE:GREGORIAN
METHOD:PUBLISH
X-ORIGINAL-URL:https://stomisesmonteregie.ca
X-WR-CALDESC:Évènements pour Association des Stomisés de la Montérégie
REFRESH-INTERVAL;VALUE=DURATION:PT1H
X-Robots-Tag:noindex
X-PUBLISHED-TTL:PT1H
BEGIN:VTIMEZONE
TZID:America/Toronto
BEGIN:DAYLIGHT
TZOFFSETFROM:-0500
TZOFFSETTO:-0400
TZNAME:EDT
DTSTART:20250309T070000
END:DAYLIGHT
BEGIN:STANDARD
TZOFFSETFROM:-0400
TZOFFSETTO:-0500
TZNAME:EST
DTSTART:20251102T060000
END:STANDARD
END:VTIMEZONE
BEGIN:VEVENT
DTSTART;TZID=America/Toronto:20250219T183000
DTEND;TZID=America/Toronto:20250219T200000
DTSTAMP:20260422T074800
CREATED:20250117T041059Z
LAST-MODIFIED:20250124T020954Z
UID:43864-1739989800-1739995200@stomisesmonteregie.ca
SUMMARY:Café-rencontre SAINT-HYACINTHE | Février 2025
DESCRIPTION:Joignez-vous à nous pour le café-rencontre de février!\nUne fois par mois\, les membres peuvent se retrouver le temps d’un café pour échanger de leur quotidien\, leurs défis\, leurs questions et bien plus. \nThématique ce mois-ci : Bien vivre l’hiver avec une stomie \n. \nConfirmez votre présence en cliquant ici\n. \nNotez que cette activité est gratuite et que le café vous sera offert. \nMerci de réserver votre place dès maintenant en cliquant sur le bouton ci-dessus et en téléphonant au 450 418-9636 \, en précisant si vous participez au café-rencontre de Saint-Hyacinthe\, Sherbrooke ou Saint-Jean-sur-Richelieu.
URL:https://stomisesmonteregie.ca/activites/cafe-rencontre-saint-hyacinthe-fevrier-2025/
LOCATION:Rôtisserie Excellence\, 1300\, boulevard Choquette\, Saint-Hyacinthe\, Québec\, J2S 6G1\, Canada
CATEGORIES:Café-rencontre
ATTACH;FMTTYPE=image/jpeg:https://stomisesmonteregie.ca/wp-content/uploads/2025/01/Cafe-fevrier-Saint-Hyacinthe.jpg
END:VEVENT
BEGIN:VEVENT
DTSTART;TZID=America/Toronto:20250219T183000
DTEND;TZID=America/Toronto:20250219T200000
DTSTAMP:20260422T074800
CREATED:20250117T041254Z
LAST-MODIFIED:20250124T020914Z
UID:43867-1739989800-1739995200@stomisesmonteregie.ca
SUMMARY:Café-rencontre SHERBROOKE | Février 2025
DESCRIPTION:Joignez-vous à nous pour le café-rencontre de février!\nUne fois par mois\, les membres peuvent se retrouver le temps d’un café pour échanger de leur quotidien\, leurs défis\, leurs questions et bien plus. \nThématique ce mois-ci : Bien vivre l’hiver avec une stomie \n. \nConfirmez votre présence en cliquant ici\n. \nNotez que cette activité est gratuite et que le café vous sera offert. \nMerci de réserver votre place dès maintenant en cliquant sur le bouton ci-dessus et en téléphonant au 450 418-9636 \, en précisant si vous participez au café-rencontre de Saint-Hyacinthe\, Sherbrooke ou Saint-Jean-sur-Richelieu.
URL:https://stomisesmonteregie.ca/activites/cafe-rencontre-sherbrooke-fevrier-2025/
LOCATION:CHSLD Argyll\, 375\, rue Argyll\, Sherbrooke\, Québec\, J1J 3H5\, Canada
CATEGORIES:Café-rencontre
ATTACH;FMTTYPE=image/jpeg:https://stomisesmonteregie.ca/wp-content/uploads/2025/01/Cafe-fevrier-Sherbrooke.jpg
END:VEVENT
BEGIN:VEVENT
DTSTART;TZID=America/Toronto:20250219T183000
DTEND;TZID=America/Toronto:20250219T200000
DTSTAMP:20260422T074800
CREATED:20250117T041620Z
LAST-MODIFIED:20250124T021150Z
UID:43870-1739989800-1739995200@stomisesmonteregie.ca
SUMMARY:Café-rencontre SAINT-JEAN-SUR-RICHELIEU | Février 2025
DESCRIPTION:Joignez-vous à nous pour le café-rencontre de février!\nUne fois par mois\, les membres peuvent se retrouver le temps d’un café pour échanger de leur quotidien\, leurs défis\, leurs questions et bien plus. \nThématique ce mois-ci : Bien vivre l’hiver avec une stomie \n. \nConfirmez votre présence en cliquant ici\n. \nNotez que cette activité est gratuite et que le café vous sera offert. \nMerci de réserver votre place dès maintenant en cliquant sur le bouton ci-dessus et en téléphonant au 450 418-9636 \, en précisant si vous participez au café-rencontre de Saint-Hyacinthe\, Sherbrooke ou Saint-Jean-sur-Richelieu.
URL:https://stomisesmonteregie.ca/activites/cafe-rencontre-saint-jean-sur-richelieu-fevrier-2025/
LOCATION:Pasquier\, 87-A\, boulevard Saint-Luc\, Saint-Jean-sur-Richelieu\, Québec\, J2W 1E2\, Canada
CATEGORIES:Café-rencontre
ATTACH;FMTTYPE=image/jpeg:https://stomisesmonteregie.ca/wp-content/uploads/2025/01/Cafe-fevrier-Saint-jean.jpg
END:VEVENT
END:VCALENDAR